BEGIN:VCALENDAR
VERSION:2.0
PRODID:-// - ECPv6.15.20//NONSGML v1.0//EN
CALSCALE:GREGORIAN
METHOD:PUBLISH
X-ORIGINAL-URL:https://sasscenter.org
X-WR-CALDESC:Events for 
REFRESH-INTERVAL;VALUE=DURATION:PT1H
X-Robots-Tag:noindex
X-PUBLISHED-TTL:PT1H
BEGIN:VTIMEZONE
TZID:America/Toronto
BEGIN:DAYLIGHT
TZOFFSETFROM:-0500
TZOFFSETTO:-0400
TZNAME:EDT
DTSTART:20240310T070000
END:DAYLIGHT
BEGIN:STANDARD
TZOFFSETFROM:-0400
TZOFFSETTO:-0500
TZNAME:EST
DTSTART:20241103T060000
END:STANDARD
BEGIN:DAYLIGHT
TZOFFSETFROM:-0500
TZOFFSETTO:-0400
TZNAME:EDT
DTSTART:20250309T070000
END:DAYLIGHT
BEGIN:STANDARD
TZOFFSETFROM:-0400
TZOFFSETTO:-0500
TZNAME:EST
DTSTART:20251102T060000
END:STANDARD
BEGIN:DAYLIGHT
TZOFFSETFROM:-0500
TZOFFSETTO:-0400
TZNAME:EDT
DTSTART:20260308T070000
END:DAYLIGHT
BEGIN:STANDARD
TZOFFSETFROM:-0400
TZOFFSETTO:-0500
TZNAME:EST
DTSTART:20261101T060000
END:STANDARD
END:VTIMEZONE
BEGIN:VEVENT
DTSTART;TZID=America/Toronto:20250419T120000
DTEND;TZID=America/Toronto:20250419T160000
DTSTAMP:20260423T042421
CREATED:20250406T234329Z
LAST-MODIFIED:20250406T234329Z
UID:753-1745064000-1745078400@sasscenter.org
SUMMARY:45TH ZIMBABWE INDEPENDENCE DAY CELEBRATION
DESCRIPTION:SASSC INVITES YOU TO A VIBRANT CELEBRATION OF ZIMBABWE’S 45TH INDEPENDENCE DAY! THIS EVENT WILL BRING TOGETHER NEWCOMERS\, REFUGEES\, AND THE COMMUNITY TO CELEBRATE HERITAGE\, CULTURE AND RESILIENCE IN CANADA \nTHERE WILL BE CULTURAL PERFOMANCES \, PANEL DISCUSSIONS\, TRADITIONAL FOODS \,MUSIC AND DANCE
URL:https://sasscenter.org/event/45th-zimbabwe-independence-day-celebration/
LOCATION:163 HUB\, 163 QUEEN STREET EAST TORONTO\, TORONTO\, ONTARIO\, M5A 1S1\, Canada
ATTACH;FMTTYPE=image/jpeg:https://sasscenter.org/wp-content/uploads/2025/03/Event-Flyer-1.jpg
ORGANIZER;CN="SUSAN":MAILTO:info@sasscenter.org
END:VEVENT
END:VCALENDAR